BEGIN:VCALENDAR
VERSION:2.0
PRODID:-//Swimming Australia/Event//EN
BEGIN:VEVENT
LOCATION:Parap Pool\, 
DESCRIPTION:
                    Sat\, 27/04/2019 to Tue\, 30/04/2019
            
X-ALT-DESC:
                    <div class="field field--name-field-event-date-time field--type-daterange field--label-hidden field__item">Sat\, 27/04/2019 to Tue\, 30/04/2019</div>
            
DTSTART:20190426T220456Z
DTEND:20190429T220456Z
SUMMARY:Live Results
URL;VALUE=URI:https://nt.swimming.org.au/events/live-results-0
DTSTAMP:20200227T110725Z
UID:5e57a2ed7ce602.35306069
END:VEVENT
END:VCALENDAR